BEGIN:VCALENDAR
VERSION:2.0
PRODID:-//Oregon Adaptive Sports - ECPv4.9.12//NONSGML v1.0//EN
CALSCALE:GREGORIAN
METHOD:PUBLISH
X-WR-CALNAME:Oregon Adaptive Sports
X-ORIGINAL-URL:https://oregonadaptivesports.org
X-WR-CALDESC:Events for Oregon Adaptive Sports
BEGIN:VTIMEZONE
TZID:America/Los_Angeles
BEGIN:DAYLIGHT
TZOFFSETFROM:-0800
TZOFFSETTO:-0700
TZNAME:PDT
DTSTART:20260308T100000
END:DAYLIGHT
BEGIN:STANDARD
TZOFFSETFROM:-0700
TZOFFSETTO:-0800
TZNAME:PST
DTSTART:20261101T090000
END:STANDARD
END:VTIMEZONE
BEGIN:VEVENT
DTSTART;TZID=America/Los_Angeles:20260808T090000
DTEND;TZID=America/Los_Angeles:20260808T130000
DTSTAMP:20260423T193647
CREATED:20260422T184356Z
LAST-MODIFIED:20260422T184356Z
UID:12425-1786179600-1786194000@oregonadaptivesports.org
SUMMARY:aMTB Private Lessons 
DESCRIPTION:aMTB Private Lessons \nNo Cost | Up to 4hr lesson/ride \nDescription: Private Adaptive Mountain Bike (aMTB) Lessons and Gravel Rides are open to all types of riders (two and three wheeled bikes). OAS has a fleet of Off-Road Hand Cycles and a recumbent Fat Trike available. Helmets and additional gear will be available for all athletes. If you ride a stand-up mountain bike (two-wheeled)\, plan to bring your personal bike or submit a request to secure a rental.  \nEssential Eligibility Criteria – aMTB Lessons \nLesson Days and Times:  \n\n3 days/wk | Thursday – Saturday\n4 hr lesson/sessions | 9am – 1pm\nALL New to OAS athletes complete a fit up and introduction to skills at OAS warehouse\n\nTo book a private session\, Login to your Athlete account and submit a lesson request\, contact OAS staff at info@oregonadaptivesports.org or call (541) 848 – 9390. Custom privates and group sessions are based on staff availability. Please contact 2 weeks in advance to schedule. \n
URL:https://oregonadaptivesports.org/events/amtb-private-lessons-20/
CATEGORIES:Mountain Biking,Sports,Summer Sports,Volunteer Events
ATTACH;FMTTYPE=image/png:https://oregonadaptivesports.org/wp-content/uploads/2026/04/SAT.png
END:VEVENT
END:VCALENDAR