BEGIN:VCALENDAR
VERSION:2.0
PRODID:-//Oregon Adaptive Sports - ECPv4.9.12//NONSGML v1.0//EN
CALSCALE:GREGORIAN
METHOD:PUBLISH
X-WR-CALNAME:Oregon Adaptive Sports
X-ORIGINAL-URL:https://oregonadaptivesports.org
X-WR-CALDESC:Events for Oregon Adaptive Sports
BEGIN:VTIMEZONE
TZID:America/Los_Angeles
BEGIN:DAYLIGHT
TZOFFSETFROM:-0800
TZOFFSETTO:-0700
TZNAME:PDT
DTSTART:20260308T100000
END:DAYLIGHT
BEGIN:STANDARD
TZOFFSETFROM:-0700
TZOFFSETTO:-0800
TZNAME:PST
DTSTART:20261101T090000
END:STANDARD
END:VTIMEZONE
BEGIN:VEVENT
DTSTART;TZID=America/Los_Angeles:20260915T090000
DTEND;TZID=America/Los_Angeles:20260915T120000
DTSTAMP:20260423T174753
CREATED:20260422T180026Z
LAST-MODIFIED:20260422T180026Z
UID:12375-1789462800-1789473600@oregonadaptivesports.org
SUMMARY:Community Cycling - Open Cycling & Community Groups
DESCRIPTION:Open Cycling & Community Groups\nDescription: OAS will be open for cycling on Tuesday & Thursday mornings! Individuals who are riding independently and/or have a support person to ride with are welcome to check out a bike and explore the paved trails at Pine Nursery Park. Bikes are first come first serve and priority will be given to the prebooked groups that run simultaneously to open hours*.  \n  \n* If you are interested in booking a small group of adaptive riders on Tuesday/Thursday\, please contact OAS Staff at (541) 848-9390. Priority for bikes will be given to pre-booked groups.  \n  \nDays: Tuesday & Thursday Mornings\, June 16th – September 24th \n*No open cycling on September 1st & 3rd \nTime: 9:00am -12:00pm | Show up anytime between 9am and 11:30am to start your ride! \nLocation: Pine Nursery Park (Middle Parking Lot – at the very end!) \n3750 NE Purcell Blvd \nBend\, OR 97701 \nCost: Free \nOAS will have adaptive cycles\, tandem bicycles\, helmets\, and adaptive gear available for attendees. If you ride a stand-up bicycle (two-wheeled)\, plan to bring your personal bike. \nRegistration will open on May 6th. \n
URL:https://oregonadaptivesports.org/events/community-cycling-open-cycling-community-groups-25/
CATEGORIES:Community Programs,Cycling,Sports,Summer Sports,Volunteer Events
ATTACH;FMTTYPE=image/png:https://oregonadaptivesports.org/wp-content/uploads/2026/04/vol-training-9.png
END:VEVENT
END:VCALENDAR