BEGIN:VCALENDAR
VERSION:2.0
PRODID:-//Oregon Adaptive Sports - ECPv4.9.12//NONSGML v1.0//EN
CALSCALE:GREGORIAN
METHOD:PUBLISH
X-WR-CALNAME:Oregon Adaptive Sports
X-ORIGINAL-URL:https://oregonadaptivesports.org
X-WR-CALDESC:Events for Oregon Adaptive Sports
BEGIN:VTIMEZONE
TZID:America/Los_Angeles
BEGIN:DAYLIGHT
TZOFFSETFROM:-0800
TZOFFSETTO:-0700
TZNAME:PDT
DTSTART:20260308T100000
END:DAYLIGHT
BEGIN:STANDARD
TZOFFSETFROM:-0700
TZOFFSETTO:-0800
TZNAME:PST
DTSTART:20261101T090000
END:STANDARD
END:VTIMEZONE
BEGIN:VEVENT
DTSTART;TZID=America/Los_Angeles:20260602T160000
DTEND;TZID=America/Los_Angeles:20260602T180000
DTSTAMP:20260423T212543
CREATED:20260422T155717Z
LAST-MODIFIED:20260422T155751Z
UID:12232-1780416000-1780423200@oregonadaptivesports.org
SUMMARY:Community Golf Season Kickoff BBQ
DESCRIPTION:Community Golf Season Kickoff BBQ\nDescription: Join OAS and Sunriver Golf to kick off our Sunriver Golf series! Celebrate the start of summer Community programs with OAS\, the OAS community\, and the Golf Pros at Sunriver Golf! \nDates: Tuesday\, June 2nd \nTime: 4:00 PM – 6:00 PM \nLocation: Meadows Golf Pro Shop at Sunriver Resort \n17600 Center Dr\, Sunriver\, OR 97707 \nCost: Free \nRegistration for summer will open on May 6th \n
URL:https://oregonadaptivesports.org/events/community-golf-season-kickoff-bbq/
CATEGORIES:Community Events,Community Programs,Golf,Sports,Summer Sports,Volunteer Events
ATTACH;FMTTYPE=image/png:https://oregonadaptivesports.org/wp-content/uploads/2026/04/GOLF-5.png
END:VEVENT
END:VCALENDAR