BEGIN:VCALENDAR
VERSION:2.0
PRODID:-//Oregon Adaptive Sports - ECPv4.9.12//NONSGML v1.0//EN
CALSCALE:GREGORIAN
METHOD:PUBLISH
X-WR-CALNAME:Oregon Adaptive Sports
X-ORIGINAL-URL:https://oregonadaptivesports.org
X-WR-CALDESC:Events for Oregon Adaptive Sports
BEGIN:VTIMEZONE
TZID:America/Los_Angeles
BEGIN:DAYLIGHT
TZOFFSETFROM:-0800
TZOFFSETTO:-0700
TZNAME:PDT
DTSTART:20260308T100000
END:DAYLIGHT
BEGIN:STANDARD
TZOFFSETFROM:-0700
TZOFFSETTO:-0800
TZNAME:PST
DTSTART:20261101T090000
END:STANDARD
END:VTIMEZONE
BEGIN:VEVENT
DTSTART;TZID=America/Los_Angeles:20260412T100000
DTEND;TZID=America/Los_Angeles:20260412T120000
DTSTAMP:20260420T154912
CREATED:20251217T191915Z
LAST-MODIFIED:20251217T191915Z
UID:11758-1775988000-1775995200@oregonadaptivesports.org
SUMMARY:Community Nordic - Sundays
DESCRIPTION:Description: Join OAS on Sunday mornings for our Community Nordic Program! All experience levels are welcome. Nordic skiing & snowshoeing are great ways to move your body and share an on-snow experience! Family and friends of athletes are welcome to join. This is a no-cost program. \nPlease register in advance. OAS adaptive equipment is first-come\, first-served. Registered participants will have access to Nordic rental equipment\, Nordic adaptive equipment\, Mt Bachelor Nordic Passes\, and transportation if needed. If you have your own equipment\, feel free to bring it! \nLocation: Mt Bachelor Nordic Center | Meet OAS staff and volunteers in front of the main entrance to the Nordic Lodge \nCost: N/A \nTransportation Option:  \nOAS offers transportation for up to 12 individuals from the OAS office in Bend\, OR\, to the Mt Bachelor Nordic Center. Priority will go to those with the highest need. \nOAS Bus Schedule and Location: \nDeparture: 9:00 am (arrive at OAS Office between 8:45 am – 9 am) \nLocation: OAS Office | 345 SW Cyber Dr\, Ste 103\, Bend\, OR 97702  \nREGISTER! \n\n
URL:https://oregonadaptivesports.org/events/community-nordic-sundays-13/
CATEGORIES:Community Programs,Nordic,Sports,Volunteer Events,Winter Sports
ATTACH;FMTTYPE=image/png:https://oregonadaptivesports.org/wp-content/uploads/2025/12/athlete-reg-2-19.png
END:VEVENT
END:VCALENDAR