BEGIN:VCALENDAR
VERSION:2.0
PRODID:-//Oregon Adaptive Sports - ECPv4.9.12//NONSGML v1.0//EN
CALSCALE:GREGORIAN
METHOD:PUBLISH
X-WR-CALNAME:Oregon Adaptive Sports
X-ORIGINAL-URL:https://oregonadaptivesports.org
X-WR-CALDESC:Events for Oregon Adaptive Sports
BEGIN:VTIMEZONE
TZID:America/Los_Angeles
BEGIN:DAYLIGHT
TZOFFSETFROM:-0800
TZOFFSETTO:-0700
TZNAME:PDT
DTSTART:20260308T100000
END:DAYLIGHT
BEGIN:STANDARD
TZOFFSETFROM:-0700
TZOFFSETTO:-0800
TZNAME:PST
DTSTART:20261101T090000
END:STANDARD
END:VTIMEZONE
BEGIN:VEVENT
DTSTART;TZID=America/Los_Angeles:20260320T180000
DTEND;TZID=America/Los_Angeles:20260320T200000
DTSTAMP:20260420T160353
CREATED:20260304T004018Z
LAST-MODIFIED:20260304T004047Z
UID:12056-1774029600-1774036800@oregonadaptivesports.org
SUMMARY:Goggle Tan Jam Party with UPP Liquids
DESCRIPTION: \n  \nWhat: An awesome party benefiting OAS! Think 80s Squaw Valley Dance Party with retro ski gear\, a local DJ spinning 80s remixes\, costume contests\, raffle prizes\, drink specials\, food by Sharkmouth Fajitas\, and local vendors. \nWhen: Friday\, March 20th | 6:00 – 10:00 PM \nWhere: UPP Liquids Barrel Room \n550 SW Industrial Way\, #185\, Bend\, Oregon 97702 \n
URL:https://oregonadaptivesports.org/events/goggle-tan-jam-party-with-upp-liquids/
CATEGORIES:Community Events,Volunteer Events
ATTACH;FMTTYPE=image/png:https://oregonadaptivesports.org/wp-content/uploads/2026/03/BIG-WAVE-7.png
END:VEVENT
END:VCALENDAR