BEGIN:VCALENDAR
VERSION:2.0
PRODID:-//Oregon Adaptive Sports - ECPv4.9.12//NONSGML v1.0//EN
CALSCALE:GREGORIAN
METHOD:PUBLISH
X-WR-CALNAME:Oregon Adaptive Sports
X-ORIGINAL-URL:https://oregonadaptivesports.org
X-WR-CALDESC:Events for Oregon Adaptive Sports
BEGIN:VTIMEZONE
TZID:America/Los_Angeles
BEGIN:DAYLIGHT
TZOFFSETFROM:-0800
TZOFFSETTO:-0700
TZNAME:PDT
DTSTART:20260308T100000
END:DAYLIGHT
BEGIN:STANDARD
TZOFFSETFROM:-0700
TZOFFSETTO:-0800
TZNAME:PST
DTSTART:20261101T090000
END:STANDARD
END:VTIMEZONE
BEGIN:VEVENT
DTSTART;TZID=America/Los_Angeles:20260728T133000
DTEND;TZID=America/Los_Angeles:20260728T173000
DTSTAMP:20260423T174613
CREATED:20260422T154402Z
LAST-MODIFIED:20260422T154402Z
UID:12223-1785245400-1785259800@oregonadaptivesports.org
SUMMARY:Sunriver Community Golf
DESCRIPTION:Sunriver Community Golf Clinics\nDescription: Join OAS Community Golf for our Sunriver series! These sessions will meet once a month at the Meadows Golf Pro Shop at the Sunriver Resort and include an additional element of instructions from the Pros at Sunriver. Athletes are welcome to bring a family member or friend. Please be sure to register additional attendees in the registration process. All experience levels are welcome! \nOne adaptive Golf Cart will be available. Bring your personal mobility equipment and we’ll adapt! \nDates: Tuesday\, July 28th \nTime: 1:30 pm – 5:30 pm \nLocation: Meadows Golf Pro Shop at Sunriver Resort \n17600 Center Dr\, Sunriver\, OR 97707 \nCost: Free \nTransportation will be provided from OAS HQ at 1 pm. Please register for transportation as there are limited spots available.  \nDress code is a collared shirt\, closed-toed shoes\, long shorts if wearing shorts\, and no denim\, please. Dress code is mandatory \nRegistration will open on May 6th \n
URL:https://oregonadaptivesports.org/events/sunriver-community-golf-2/
CATEGORIES:Community Programs,Golf,Sports,Summer Sports,Volunteer Events
ATTACH;FMTTYPE=image/png:https://oregonadaptivesports.org/wp-content/uploads/2026/04/SR-GOLF-1.png
END:VEVENT
END:VCALENDAR